BEGIN:VCALENDAR
VERSION:2.0
CALSCALE:GREGORIAN
BEGIN:VEVENT
URL:https://www.learndesk.us/class/5700358414270464/lesson/f9775cc067ee30473d1b55262249bacd?ref=outlook-calendar
SUMMARY:05: Two-Person Action
DTSTART;TZID=America/Los_Angeles:20260421T190000
DTEND;TZID=America/Los_Angeles:20260421T200000
LOCATION:https://www.learndesk.us/class/5700358414270464/lesson/f9775cc067ee30473d1b55262249bacd?ref=outlook-calendar
DESCRIPTION: Here we observe and discover the visual nature of certain interactions between two individuals.

https://www.learndesk.us/class/5700358414270464/lesson/f9775cc067ee30473d1b55262249bacd?ref=outlook-calendar
STATUS:CONFIRMED
SEQUENCE:3
BEGIN:VALARM
TRIGGER:-PT10M
DESCRIPTION:Class Reminder
ACTION:DISPLAY
END:VALARM
END:VEVENT
END:VCALENDAR