BEGIN:VCALENDAR
VERSION:2.0
CALSCALE:GREGORIAN
BEGIN:VEVENT
URL:https://www.learndesk.us/class/5700358414270464/lesson/d0239030db9a09c992232333a379f08b?ref=outlook-calendar
SUMMARY:17: Dance
DTSTART;TZID=America/Los_Angeles:20260421T190000
DTEND;TZID=America/Los_Angeles:20260421T200000
LOCATION:https://www.learndesk.us/class/5700358414270464/lesson/d0239030db9a09c992232333a379f08b?ref=outlook-calendar
DESCRIPTION: Dance action underlines many of the principles we have learned so far - "balance", "dynamic poses" and even the "bouncing ball" principles - so we explore it here through our gesture drawings.

https://www.learndesk.us/class/5700358414270464/lesson/d0239030db9a09c992232333a379f08b?ref=outlook-calendar
STATUS:CONFIRMED
SEQUENCE:3
BEGIN:VALARM
TRIGGER:-PT10M
DESCRIPTION:Class Reminder
ACTION:DISPLAY
END:VALARM
END:VEVENT
END:VCALENDAR