BEGIN:VCALENDAR
VERSION:2.0
CALSCALE:GREGORIAN
BEGIN:VEVENT
URL:https://www.learndesk.us/class/5700358414270464/lesson/ce5d7ff5d8cd605b9e7da9568e39b57b?ref=outlook-calendar
SUMMARY:14: Balance 02
DTSTART;TZID=America/Los_Angeles:20260421T190000
DTEND;TZID=America/Los_Angeles:20260421T200000
LOCATION:https://www.learndesk.us/class/5700358414270464/lesson/ce5d7ff5d8cd605b9e7da9568e39b57b?ref=outlook-calendar
DESCRIPTION: Here we look at more extreme examples of "balance", as a reminder of how important it is to be aware of it for our animation poses.

https://www.learndesk.us/class/5700358414270464/lesson/ce5d7ff5d8cd605b9e7da9568e39b57b?ref=outlook-calendar
STATUS:CONFIRMED
SEQUENCE:3
BEGIN:VALARM
TRIGGER:-PT10M
DESCRIPTION:Class Reminder
ACTION:DISPLAY
END:VALARM
END:VEVENT
END:VCALENDAR