BEGIN:VCALENDAR
VERSION:2.0
CALSCALE:GREGORIAN
BEGIN:VEVENT
URL:https://www.learndesk.us/class/5700358414270464/lesson/bd699e567edeb1397b6cb4c4157caac0?ref=outlook-calendar
SUMMARY:02: Physical Exercise
DTSTART;TZID=America/Los_Angeles:20260425T190000
DTEND;TZID=America/Los_Angeles:20260425T200000
LOCATION:https://www.learndesk.us/class/5700358414270464/lesson/bd699e567edeb1397b6cb4c4157caac0?ref=outlook-calendar
DESCRIPTION: Here we'll see some of the basic activities that people do and take a deeper look at what they can provide for us as animators.

https://www.learndesk.us/class/5700358414270464/lesson/bd699e567edeb1397b6cb4c4157caac0?ref=outlook-calendar
STATUS:CONFIRMED
SEQUENCE:3
BEGIN:VALARM
TRIGGER:-PT10M
DESCRIPTION:Class Reminder
ACTION:DISPLAY
END:VALARM
END:VEVENT
END:VCALENDAR