BEGIN:VCALENDAR
VERSION:2.0
CALSCALE:GREGORIAN
BEGIN:VEVENT
URL:https://www.learndesk.us/class/5700358414270464/lesson/a682655fbe0e6785487765e9da4d1aba?ref=outlook-calendar
SUMMARY:15: Jumps
DTSTART;TZID=America/Los_Angeles:20260421T190000
DTEND;TZID=America/Los_Angeles:20260421T200000
LOCATION:https://www.learndesk.us/class/5700358414270464/lesson/a682655fbe0e6785487765e9da4d1aba?ref=outlook-calendar
DESCRIPTION: Here we explore how the "bouncing ball" principles of squash and stretch can affect the way we approach jump animation.

https://www.learndesk.us/class/5700358414270464/lesson/a682655fbe0e6785487765e9da4d1aba?ref=outlook-calendar
STATUS:CONFIRMED
SEQUENCE:3
BEGIN:VALARM
TRIGGER:-PT10M
DESCRIPTION:Class Reminder
ACTION:DISPLAY
END:VALARM
END:VEVENT
END:VCALENDAR