BEGIN:VCALENDAR
VERSION:2.0
CALSCALE:GREGORIAN
BEGIN:VEVENT
URL:https://www.learndesk.us/class/5700358414270464/lesson/a5d83befde4a5af4ce1d7498b6978c06?ref=outlook-calendar
SUMMARY:19: Obervation 02
DTSTART;TZID=America/Los_Angeles:20260421T190000
DTEND;TZID=America/Los_Angeles:20260421T200000
LOCATION:https://www.learndesk.us/class/5700358414270464/lesson/a5d83befde4a5af4ce1d7498b6978c06?ref=outlook-calendar
DESCRIPTION: Here we continue our observational exercises through a succession of baseball pitchers' actions.

https://www.learndesk.us/class/5700358414270464/lesson/a5d83befde4a5af4ce1d7498b6978c06?ref=outlook-calendar
STATUS:CONFIRMED
SEQUENCE:3
BEGIN:VALARM
TRIGGER:-PT10M
DESCRIPTION:Class Reminder
ACTION:DISPLAY
END:VALARM
END:VEVENT
END:VCALENDAR