BEGIN:VCALENDAR
VERSION:2.0
CALSCALE:GREGORIAN
BEGIN:VEVENT
URL:https://www.learndesk.us/class/5700358414270464/lesson/973b5e07628be5ebd404462acb54c0b6?ref=outlook-calendar
SUMMARY:24: Dynamic Line 01
DTSTART;TZID=America/Los_Angeles:20260421T190000
DTEND;TZID=America/Los_Angeles:20260421T200000
LOCATION:https://www.learndesk.us/class/5700358414270464/lesson/973b5e07628be5ebd404462acb54c0b6?ref=outlook-calendar
DESCRIPTION: Here we discuss the importance of "dynamic line" in animation and draw the movement of 4 powerful athletes to underline these principles.

https://www.learndesk.us/class/5700358414270464/lesson/973b5e07628be5ebd404462acb54c0b6?ref=outlook-calendar
STATUS:CONFIRMED
SEQUENCE:3
BEGIN:VALARM
TRIGGER:-PT10M
DESCRIPTION:Class Reminder
ACTION:DISPLAY
END:VALARM
END:VEVENT
END:VCALENDAR