BEGIN:VCALENDAR
VERSION:2.0
CALSCALE:GREGORIAN
BEGIN:VEVENT
URL:https://www.learndesk.us/class/5700358414270464/lesson/95a107fcb02d7353fd6bde8715350c85?ref=outlook-calendar
SUMMARY:11: Extreme Perspective
DTSTART;TZID=America/Los_Angeles:20260421T190000
DTEND;TZID=America/Los_Angeles:20260421T200000
LOCATION:https://www.learndesk.us/class/5700358414270464/lesson/95a107fcb02d7353fd6bde8715350c85?ref=outlook-calendar
DESCRIPTION: Here we look at "perspective" - as well as how we might exploit the visual nature of perspective - to dramatically affect the way we approach our poses.

https://www.learndesk.us/class/5700358414270464/lesson/95a107fcb02d7353fd6bde8715350c85?ref=outlook-calendar
STATUS:CONFIRMED
SEQUENCE:3
BEGIN:VALARM
TRIGGER:-PT10M
DESCRIPTION:Class Reminder
ACTION:DISPLAY
END:VALARM
END:VEVENT
END:VCALENDAR