BEGIN:VCALENDAR
VERSION:2.0
CALSCALE:GREGORIAN
BEGIN:VEVENT
URL:https://www.learndesk.us/class/5700358414270464/lesson/9058559d31a4601ed5bc855a268abbdd?ref=outlook-calendar
SUMMARY:01: Anticipation
DTSTART;TZID=America/Los_Angeles:20260421T190000
DTEND;TZID=America/Los_Angeles:20260421T200000
LOCATION:https://www.learndesk.us/class/5700358414270464/lesson/9058559d31a4601ed5bc855a268abbdd?ref=outlook-calendar
DESCRIPTION: For our first exercise let us explore the notion of "Anticipation". Anticipation is one of the most important skills in a master animator's repertoire. Therefore it makes perfect sense to study this principle right upfront here.

https://www.learndesk.us/class/5700358414270464/lesson/9058559d31a4601ed5bc855a268abbdd?ref=outlook-calendar
STATUS:CONFIRMED
SEQUENCE:3
BEGIN:VALARM
TRIGGER:-PT10M
DESCRIPTION:Class Reminder
ACTION:DISPLAY
END:VALARM
END:VEVENT
END:VCALENDAR