BEGIN:VCALENDAR
VERSION:2.0
CALSCALE:GREGORIAN
BEGIN:VEVENT
URL:https://www.learndesk.us/class/5700358414270464/lesson/8628c1a0dcb926b5a841e2f2b14206e3?ref=outlook-calendar
SUMMARY:03: Sporting Action
DTSTART;TZID=America/Los_Angeles:20260421T190000
DTEND;TZID=America/Los_Angeles:20260421T200000
LOCATION:https://www.learndesk.us/class/5700358414270464/lesson/8628c1a0dcb926b5a841e2f2b14206e3?ref=outlook-calendar
DESCRIPTION: Here we turn to the more dynamic actions that sportsmen and women offer. This should give us a greater understanding of dynamic poses in action.

https://www.learndesk.us/class/5700358414270464/lesson/8628c1a0dcb926b5a841e2f2b14206e3?ref=outlook-calendar
STATUS:CONFIRMED
SEQUENCE:3
BEGIN:VALARM
TRIGGER:-PT10M
DESCRIPTION:Class Reminder
ACTION:DISPLAY
END:VALARM
END:VEVENT
END:VCALENDAR