BEGIN:VCALENDAR
VERSION:2.0
CALSCALE:GREGORIAN
BEGIN:VEVENT
URL:https://www.learndesk.us/class/5700358414270464/lesson/78ba6ec6094fe445a69b505e5a619f9c?ref=outlook-calendar
SUMMARY:13: Balance 01
DTSTART;TZID=America/Los_Angeles:20260421T190000
DTEND;TZID=America/Los_Angeles:20260421T200000
LOCATION:https://www.learndesk.us/class/5700358414270464/lesson/78ba6ec6094fe445a69b505e5a619f9c?ref=outlook-calendar
DESCRIPTION: Here we explore the imperative of "balance" when creating great poses and animated movement.

https://www.learndesk.us/class/5700358414270464/lesson/78ba6ec6094fe445a69b505e5a619f9c?ref=outlook-calendar
STATUS:CONFIRMED
SEQUENCE:3
BEGIN:VALARM
TRIGGER:-PT10M
DESCRIPTION:Class Reminder
ACTION:DISPLAY
END:VALARM
END:VEVENT
END:VCALENDAR