BEGIN:VCALENDAR
VERSION:2.0
CALSCALE:GREGORIAN
BEGIN:VEVENT
URL:https://www.learndesk.us/class/5700358414270464/lesson/5c49c23d45fec094a768257915bf7f8c?ref=outlook-calendar
SUMMARY:28: Turnaround Objects
DTSTART;TZID=America/Los_Angeles:20260421T190000
DTEND;TZID=America/Los_Angeles:20260421T200000
LOCATION:https://www.learndesk.us/class/5700358414270464/lesson/5c49c23d45fec094a768257915bf7f8c?ref=outlook-calendar
DESCRIPTION: Here you will explore a physical structure, and how that physical structure is observed from several different viewpoints.

https://www.learndesk.us/class/5700358414270464/lesson/5c49c23d45fec094a768257915bf7f8c?ref=outlook-calendar
STATUS:CONFIRMED
SEQUENCE:3
BEGIN:VALARM
TRIGGER:-PT10M
DESCRIPTION:Class Reminder
ACTION:DISPLAY
END:VALARM
END:VEVENT
END:VCALENDAR