BEGIN:VCALENDAR
VERSION:2.0
CALSCALE:GREGORIAN
BEGIN:VEVENT
URL:https://www.learndesk.us/class/5700358414270464/lesson/50ce1bf4f6beb6906f68b9db920273eb?ref=outlook-calendar
SUMMARY:04: Single Person Action
DTSTART;TZID=America/Los_Angeles:20260425T190000
DTEND;TZID=America/Los_Angeles:20260425T200000
LOCATION:https://www.learndesk.us/class/5700358414270464/lesson/50ce1bf4f6beb6906f68b9db920273eb?ref=outlook-calendar
DESCRIPTION: Here we learn how to be "people watchers" as they undertake specific activities.

https://www.learndesk.us/class/5700358414270464/lesson/50ce1bf4f6beb6906f68b9db920273eb?ref=outlook-calendar
STATUS:CONFIRMED
SEQUENCE:3
BEGIN:VALARM
TRIGGER:-PT10M
DESCRIPTION:Class Reminder
ACTION:DISPLAY
END:VALARM
END:VEVENT
END:VCALENDAR