BEGIN:VCALENDAR
VERSION:2.0
CALSCALE:GREGORIAN
BEGIN:VEVENT
URL:https://www.learndesk.us/class/5700358414270464/lesson/4a7d160b90d9ccd78430455f42b2da59?ref=outlook-calendar
SUMMARY:29: Hands
DTSTART;TZID=America/Los_Angeles:20260421T190000
DTEND;TZID=America/Los_Angeles:20260421T200000
LOCATION:https://www.learndesk.us/class/5700358414270464/lesson/4a7d160b90d9ccd78430455f42b2da59?ref=outlook-calendar
DESCRIPTION: The use of hands can often be invaluable in animated character action. Here you will explore the human hand in several poses, providing insight on just how expressive hands can be.

https://www.learndesk.us/class/5700358414270464/lesson/4a7d160b90d9ccd78430455f42b2da59?ref=outlook-calendar
STATUS:CONFIRMED
SEQUENCE:3
BEGIN:VALARM
TRIGGER:-PT10M
DESCRIPTION:Class Reminder
ACTION:DISPLAY
END:VALARM
END:VEVENT
END:VCALENDAR