BEGIN:VCALENDAR
VERSION:2.0
CALSCALE:GREGORIAN
BEGIN:VEVENT
URL:https://www.learndesk.us/class/5700358414270464/lesson/4279a6a206f818b40238921ef316954f?ref=outlook-calendar
SUMMARY:08: Emotions: Sad
DTSTART;TZID=America/Los_Angeles:20260421T190000
DTEND;TZID=America/Los_Angeles:20260421T200000
LOCATION:https://www.learndesk.us/class/5700358414270464/lesson/4279a6a206f818b40238921ef316954f?ref=outlook-calendar
DESCRIPTION: Emotions have a very important effect on body language when it comes to creating strong "storytelling" poses. We explore the effects of sad emotions.

https://www.learndesk.us/class/5700358414270464/lesson/4279a6a206f818b40238921ef316954f?ref=outlook-calendar
STATUS:CONFIRMED
SEQUENCE:3
BEGIN:VALARM
TRIGGER:-PT10M
DESCRIPTION:Class Reminder
ACTION:DISPLAY
END:VALARM
END:VEVENT
END:VCALENDAR