BEGIN:VCALENDAR
VERSION:2.0
CALSCALE:GREGORIAN
BEGIN:VEVENT
URL:https://www.learndesk.us/class/5700358414270464/lesson/41049a0989e01641e6aa06f4f1a1af6e?ref=outlook-calendar
SUMMARY:18: Observation 01
DTSTART;TZID=America/Los_Angeles:20260421T190000
DTEND;TZID=America/Los_Angeles:20260421T200000
LOCATION:https://www.learndesk.us/class/5700358414270464/lesson/41049a0989e01641e6aa06f4f1a1af6e?ref=outlook-calendar
DESCRIPTION: This is the first of 4 focused exercises where we train our "animator's eye" and our "animator's brain" to enhance our animation action through careful observation of real-world balletic poses.

https://www.learndesk.us/class/5700358414270464/lesson/41049a0989e01641e6aa06f4f1a1af6e?ref=outlook-calendar
STATUS:CONFIRMED
SEQUENCE:3
BEGIN:VALARM
TRIGGER:-PT10M
DESCRIPTION:Class Reminder
ACTION:DISPLAY
END:VALARM
END:VEVENT
END:VCALENDAR