BEGIN:VCALENDAR
VERSION:2.0
CALSCALE:GREGORIAN
BEGIN:VEVENT
URL:https://www.learndesk.us/class/5700358414270464/lesson/3ce92bc21366783617f081945ee1a255?ref=outlook-calendar
SUMMARY:25: Dynamic Line 02
DTSTART;TZID=America/Los_Angeles:20260421T190000
DTEND;TZID=America/Los_Angeles:20260421T200000
LOCATION:https://www.learndesk.us/class/5700358414270464/lesson/3ce92bc21366783617f081945ee1a255?ref=outlook-calendar
DESCRIPTION: Here we further explore the "dynamic line" further, with more action poses.

https://www.learndesk.us/class/5700358414270464/lesson/3ce92bc21366783617f081945ee1a255?ref=outlook-calendar
STATUS:CONFIRMED
SEQUENCE:3
BEGIN:VALARM
TRIGGER:-PT10M
DESCRIPTION:Class Reminder
ACTION:DISPLAY
END:VALARM
END:VEVENT
END:VCALENDAR