BEGIN:VCALENDAR
VERSION:2.0
CALSCALE:GREGORIAN
BEGIN:VEVENT
URL:https://www.learndesk.us/class/5700358414270464/lesson/3755e9ad62fedb3e79f758d2bbd12d75?ref=outlook-calendar
SUMMARY:06: Pose and Silhouette
DTSTART;TZID=America/Los_Angeles:20260421T190000
DTEND;TZID=America/Los_Angeles:20260421T200000
LOCATION:https://www.learndesk.us/class/5700358414270464/lesson/3755e9ad62fedb3e79f758d2bbd12d75?ref=outlook-calendar
DESCRIPTION: Here we learn how "silhouetting" build stronger storytelling poses.

https://www.learndesk.us/class/5700358414270464/lesson/3755e9ad62fedb3e79f758d2bbd12d75?ref=outlook-calendar
STATUS:CONFIRMED
SEQUENCE:3
BEGIN:VALARM
TRIGGER:-PT10M
DESCRIPTION:Class Reminder
ACTION:DISPLAY
END:VALARM
END:VEVENT
END:VCALENDAR