BEGIN:VCALENDAR
VERSION:2.0
CALSCALE:GREGORIAN
BEGIN:VEVENT
URL:https://www.learndesk.us/class/5700358414270464/lesson/25599c429a0e7f6d1a8449e0730e3985?ref=outlook-calendar
SUMMARY:16: Walks
DTSTART;TZID=America/Los_Angeles:20260421T190000
DTEND;TZID=America/Los_Angeles:20260421T200000
LOCATION:https://www.learndesk.us/class/5700358414270464/lesson/25599c429a0e7f6d1a8449e0730e3985?ref=outlook-calendar
DESCRIPTION: Here we examine the 5 essential poses that make up a successful "generic walk" action in animation.

https://www.learndesk.us/class/5700358414270464/lesson/25599c429a0e7f6d1a8449e0730e3985?ref=outlook-calendar
STATUS:CONFIRMED
SEQUENCE:3
BEGIN:VALARM
TRIGGER:-PT10M
DESCRIPTION:Class Reminder
ACTION:DISPLAY
END:VALARM
END:VEVENT
END:VCALENDAR