BEGIN:VCALENDAR
VERSION:2.0
CALSCALE:GREGORIAN
BEGIN:VEVENT
URL:https://www.learndesk.us/class/5700358414270464/lesson/15200e2651f9d987672651beb8bb7f31?ref=outlook-calendar
SUMMARY:27: Action Pose Challenge
DTSTART;TZID=America/Los_Angeles:20260421T190000
DTEND;TZID=America/Los_Angeles:20260421T200000
LOCATION:https://www.learndesk.us/class/5700358414270464/lesson/15200e2651f9d987672651beb8bb7f31?ref=outlook-calendar
DESCRIPTION: As previously, here you are asked to observe a single character, then draw that character in 4 imaginative "action" poses.

https://www.learndesk.us/class/5700358414270464/lesson/15200e2651f9d987672651beb8bb7f31?ref=outlook-calendar
STATUS:CONFIRMED
SEQUENCE:3
BEGIN:VALARM
TRIGGER:-PT10M
DESCRIPTION:Class Reminder
ACTION:DISPLAY
END:VALARM
END:VEVENT
END:VCALENDAR