BEGIN:VCALENDAR
VERSION:2.0
CALSCALE:GREGORIAN
BEGIN:VEVENT
URL:https://www.learndesk.us/class/5700358414270464/lesson/0cb7af717840246adbdf00ae687a09bd?ref=outlook-calendar
SUMMARY:23: Vault Sequence
DTSTART;TZID=America/Los_Angeles:20260421T190000
DTEND;TZID=America/Los_Angeles:20260421T200000
LOCATION:https://www.learndesk.us/class/5700358414270464/lesson/0cb7af717840246adbdf00ae687a09bd?ref=outlook-calendar
DESCRIPTION: Here we examine an incredible gymnastic vault sequence to assist us in understanding dynamic action for animation.

https://www.learndesk.us/class/5700358414270464/lesson/0cb7af717840246adbdf00ae687a09bd?ref=outlook-calendar
STATUS:CONFIRMED
SEQUENCE:3
BEGIN:VALARM
TRIGGER:-PT10M
DESCRIPTION:Class Reminder
ACTION:DISPLAY
END:VALARM
END:VEVENT
END:VCALENDAR