BEGIN:VCALENDAR
VERSION:2.0
CALSCALE:GREGORIAN
BEGIN:VEVENT
URL:https://www.learndesk.us/class/5700358414270464/lesson/08330b1be6d4397e22c293e569e9b895?ref=outlook-calendar
SUMMARY:26: Emotional Poses
DTSTART;TZID=America/Los_Angeles:20260421T190000
DTEND;TZID=America/Los_Angeles:20260421T200000
LOCATION:https://www.learndesk.us/class/5700358414270464/lesson/08330b1be6d4397e22c293e569e9b895?ref=outlook-calendar
DESCRIPTION: Here you are asked to observe a single character, then draw that character in 4 imaginative "emotional" poses.

https://www.learndesk.us/class/5700358414270464/lesson/08330b1be6d4397e22c293e569e9b895?ref=outlook-calendar
STATUS:CONFIRMED
SEQUENCE:3
BEGIN:VALARM
TRIGGER:-PT10M
DESCRIPTION:Class Reminder
ACTION:DISPLAY
END:VALARM
END:VEVENT
END:VCALENDAR