BEGIN:VCALENDAR
VERSION:2.0
CALSCALE:GREGORIAN
BEGIN:VEVENT
URL:https://www.learndesk.us/class/5700358414270464/drawing-for-animation?ref=outlook-calendar
SUMMARY:Drawing for Animation
DTSTART;TZID=America/Los_Angeles:20260421T190000
DTEND;TZID=America/Los_Angeles:20260421T200000
LOCATION:https://www.learndesk.us/class/5700358414270464/drawing-for-animation?ref=outlook-calendar
DESCRIPTION: 
What will you learn in this course?
This extensive course offers essential "observational drawing exercises" - to teach animation to the beginner and raise the bar for existing professional animators or animation instructors. The main thing about this course is that the more you do, the better your animation work will become - whether you're a 2D animator, a 3D one, a Claymation animator, a stop-frame character animator, or any other.

Like everything else in life, you will only get out of something in direct proportion to what you put in. None of this is more true than with "Drawing for animation". Becoming a master animator requires intensive study and application. It is only through hard-earned observation and experience (and therefore a great deal of inevitable struggle and failure!) that true mastership will emerge. There are no shortcuts here - no, not even using the most advanced of digital software. This course is the foundation of all things - and therefore is the first...

https://www.learndesk.us/class/5700358414270464/drawing-for-animation?ref=outlook-calendar
STATUS:CONFIRMED
SEQUENCE:3
BEGIN:VALARM
TRIGGER:-PT10M
DESCRIPTION:Class Reminder
ACTION:DISPLAY
END:VALARM
END:VEVENT
END:VCALENDAR