BEGIN:VCALENDAR
VERSION:2.0
CALSCALE:GREGORIAN
BEGIN:VEVENT
URL:https://www.learndesk.us/class/5692615896858624/basic-business-finance-101?ref=outlook-calendar
SUMMARY:Basic Business Finance 101
DTSTART;TZID=America/Los_Angeles:20260420T190000
DTEND;TZID=America/Los_Angeles:20260420T200000
LOCATION:https://www.learndesk.us/class/5692615896858624/basic-business-finance-101?ref=outlook-calendar
DESCRIPTION: Learn the basic accounting and finance concepts you need to be successful in modern business.
What will you learn in this course?

Accounting Process
Distinguish between the calendar year and fiscal year
Liabilities
Discuss Assets, Revenue, and Expenses
Describe the Accounting Equation (Assets = Liabilities + Equity)
Credits
Debits
Equity
Explain the use of General Journal Entries and double-entry accounting


https://www.learndesk.us/class/5692615896858624/basic-business-finance-101?ref=outlook-calendar
STATUS:CONFIRMED
SEQUENCE:3
BEGIN:VALARM
TRIGGER:-PT10M
DESCRIPTION:Class Reminder
ACTION:DISPLAY
END:VALARM
END:VEVENT
END:VCALENDAR