BEGIN:VCALENDAR
VERSION:2.0
CALSCALE:GREGORIAN
BEGIN:VEVENT
URL:https://www.learndesk.us/class/5674334838325248/lesson/b9ab6df1410bb8cac0b827b330e024aa?ref=outlook-calendar
SUMMARY:Project 04: Add Audio and Video to the Training Project
DTSTART;TZID=America/Los_Angeles:20260421T190000
DTEND;TZID=America/Los_Angeles:20260421T200000
LOCATION:https://www.learndesk.us/class/5674334838325248/lesson/b9ab6df1410bb8cac0b827b330e024aa?ref=outlook-calendar
DESCRIPTION: We will add the video and audio files needed to continue on working on the project, the instruments of the orchestra. We will use the knowledge we have learned from the PowerPoint essential videos.

https://www.learndesk.us/class/5674334838325248/lesson/b9ab6df1410bb8cac0b827b330e024aa?ref=outlook-calendar
STATUS:CONFIRMED
SEQUENCE:3
BEGIN:VALARM
TRIGGER:-PT10M
DESCRIPTION:Class Reminder
ACTION:DISPLAY
END:VALARM
END:VEVENT
END:VCALENDAR