BEGIN:VCALENDAR
VERSION:2.0
CALSCALE:GREGORIAN
BEGIN:VEVENT
URL:https://www.learndesk.us/class/5674334838325248/lesson/ac8e23994f88faadd76c735562080393?ref=outlook-calendar
SUMMARY:Essentials 06: Use the Power of the Selection Pane in PowerPoint
DTSTART;TZID=America/Los_Angeles:20260421T190000
DTEND;TZID=America/Los_Angeles:20260421T200000
LOCATION:https://www.learndesk.us/class/5674334838325248/lesson/ac8e23994f88faadd76c735562080393?ref=outlook-calendar
DESCRIPTION: In this video, you will learn about the importance of the selection pane and how we can use it in PowerPoint to accelerate the speed and efficiency of our projects.

https://www.learndesk.us/class/5674334838325248/lesson/ac8e23994f88faadd76c735562080393?ref=outlook-calendar
STATUS:CONFIRMED
SEQUENCE:3
BEGIN:VALARM
TRIGGER:-PT10M
DESCRIPTION:Class Reminder
ACTION:DISPLAY
END:VALARM
END:VEVENT
END:VCALENDAR