BEGIN:VCALENDAR
VERSION:2.0
CALSCALE:GREGORIAN
BEGIN:VEVENT
URL:https://www.learndesk.us/class/5674334838325248/lesson/aa33251f9d9c37301c7386c169f5cf37?ref=outlook-calendar
SUMMARY:The Slicing Images Project: Introduction
DTSTART;TZID=America/Los_Angeles:20260421T190000
DTEND;TZID=America/Los_Angeles:20260421T200000
LOCATION:https://www.learndesk.us/class/5674334838325248/lesson/aa33251f9d9c37301c7386c169f5cf37?ref=outlook-calendar
DESCRIPTION: This is an introductory video to the animated sliced images project in the PowerPoint master class.

https://www.learndesk.us/class/5674334838325248/lesson/aa33251f9d9c37301c7386c169f5cf37?ref=outlook-calendar
STATUS:CONFIRMED
SEQUENCE:3
BEGIN:VALARM
TRIGGER:-PT10M
DESCRIPTION:Class Reminder
ACTION:DISPLAY
END:VALARM
END:VEVENT
END:VCALENDAR