BEGIN:VCALENDAR
VERSION:2.0
CALSCALE:GREGORIAN
BEGIN:VEVENT
URL:https://www.learndesk.us/class/5674334838325248/lesson/4da99046e2255dd4c067389f44aa00f4?ref=outlook-calendar
SUMMARY:The Typography Animation Project: Morph
DTSTART;TZID=America/Los_Angeles:20260421T190000
DTEND;TZID=America/Los_Angeles:20260421T200000
LOCATION:https://www.learndesk.us/class/5674334838325248/lesson/4da99046e2255dd4c067389f44aa00f4?ref=outlook-calendar
DESCRIPTION: In this video, you will learn how to use the morph transition with typography in PowerPoint.

https://www.learndesk.us/class/5674334838325248/lesson/4da99046e2255dd4c067389f44aa00f4?ref=outlook-calendar
STATUS:CONFIRMED
SEQUENCE:3
BEGIN:VALARM
TRIGGER:-PT10M
DESCRIPTION:Class Reminder
ACTION:DISPLAY
END:VALARM
END:VEVENT
END:VCALENDAR