BEGIN:VCALENDAR
VERSION:2.0
CALSCALE:GREGORIAN
BEGIN:VEVENT
URL:https://www.learndesk.us/class/5674334838325248/lesson/40b4afffc10cf55109cbaadfb7376a20?ref=outlook-calendar
SUMMARY:Up and Running in PowerPoint
DTSTART;TZID=America/Los_Angeles:20260421T190000
DTEND;TZID=America/Los_Angeles:20260421T200000
LOCATION:https://www.learndesk.us/class/5674334838325248/lesson/40b4afffc10cf55109cbaadfb7376a20?ref=outlook-calendar
DESCRIPTION: This section is for those who are new to PowerPoint or for those who want to make sure they review all the essentials before they go into the more complex projects. In this section, I will explain everything you need to know to be ready for the PowerPoint we will work on later in the course. 

https://www.learndesk.us/class/5674334838325248/lesson/40b4afffc10cf55109cbaadfb7376a20?ref=outlook-calendar
STATUS:CONFIRMED
SEQUENCE:3
BEGIN:VALARM
TRIGGER:-PT10M
DESCRIPTION:Class Reminder
ACTION:DISPLAY
END:VALARM
END:VEVENT
END:VCALENDAR