BEGIN:VCALENDAR
VERSION:2.0
CALSCALE:GREGORIAN
BEGIN:VEVENT
URL:https://www.learndesk.us/class/5674334838325248/lesson/226aab80b24c7429e5f75616179568a0?ref=outlook-calendar
SUMMARY:Project 03: Add Text and Images to the Training Project
DTSTART;TZID=America/Los_Angeles:20260421T190000
DTEND;TZID=America/Los_Angeles:20260421T200000
LOCATION:https://www.learndesk.us/class/5674334838325248/lesson/226aab80b24c7429e5f75616179568a0?ref=outlook-calendar
DESCRIPTION: In this video, we will take the next step in the project and apply what we have learned in the essential videos on the instruments of the orchestra project as we will add the text and images for the project.

https://www.learndesk.us/class/5674334838325248/lesson/226aab80b24c7429e5f75616179568a0?ref=outlook-calendar
STATUS:CONFIRMED
SEQUENCE:3
BEGIN:VALARM
TRIGGER:-PT10M
DESCRIPTION:Class Reminder
ACTION:DISPLAY
END:VALARM
END:VEVENT
END:VCALENDAR