BEGIN:VCALENDAR
VERSION:2.0
CALSCALE:GREGORIAN
BEGIN:VEVENT
URL:https://www.learndesk.us/class/5651259891646464/lesson/e260f32e6f43b6c7e603b4fe0ea0ae33?ref=outlook-calendar
SUMMARY:Email Management
DTSTART;TZID=America/Los_Angeles:20260420T190000
DTEND;TZID=America/Los_Angeles:20260420T200000
LOCATION:https://www.learndesk.us/class/5651259891646464/lesson/e260f32e6f43b6c7e603b4fe0ea0ae33?ref=outlook-calendar
DESCRIPTION: https://www.learndesk.us/class/5651259891646464/lesson/e260f32e6f43b6c7e603b4fe0ea0ae33?ref=outlook-calendar
STATUS:CONFIRMED
SEQUENCE:3
BEGIN:VALARM
TRIGGER:-PT10M
DESCRIPTION:Class Reminder
ACTION:DISPLAY
END:VALARM
END:VEVENT
END:VCALENDAR