BEGIN:VCALENDAR
VERSION:2.0
CALSCALE:GREGORIAN
BEGIN:VEVENT
URL:https://www.learndesk.us/class/5651259891646464/lesson/b61ac291a7722f8f934d837ae5c651f0?ref=outlook-calendar
SUMMARY:Taking Quick Action
DTSTART;TZID=America/Los_Angeles:20260420T190000
DTEND;TZID=America/Los_Angeles:20260420T200000
LOCATION:https://www.learndesk.us/class/5651259891646464/lesson/b61ac291a7722f8f934d837ae5c651f0?ref=outlook-calendar
DESCRIPTION: https://www.learndesk.us/class/5651259891646464/lesson/b61ac291a7722f8f934d837ae5c651f0?ref=outlook-calendar
STATUS:CONFIRMED
SEQUENCE:3
BEGIN:VALARM
TRIGGER:-PT10M
DESCRIPTION:Class Reminder
ACTION:DISPLAY
END:VALARM
END:VEVENT
END:VCALENDAR