BEGIN:VCALENDAR
VERSION:2.0
CALSCALE:GREGORIAN
BEGIN:VEVENT
URL:https://www.learndesk.us/class/5651259891646464/saving-time-in-outlook?ref=outlook-calendar
SUMMARY:Saving Time in Outlook
DTSTART;TZID=America/Los_Angeles:20260420T190000
DTEND;TZID=America/Los_Angeles:20260420T200000
LOCATION:https://www.learndesk.us/class/5651259891646464/saving-time-in-outlook?ref=outlook-calendar
DESCRIPTION: 
From time-waster to productivity booster. Change the way you use Microsoft Outlook
Outlook is packed with great tools but there are a few that can make a tremendous difference in your efficiency. With the automating features, tasks that you do on a regular basis that can take time will become simpler and faster.&nbsp;
What will you learn in this course?

Using quick steps
Creating reusable text, searches, and rules to automate things you do often
Using color, rules, and the task list to highlight and make email easier to manage and organize

This course is the first step in mastering Outlook. You will be sure to want to find out more about Outlook can help you find more hours in your week.


https://www.learndesk.us/class/5651259891646464/saving-time-in-outlook?ref=outlook-calendar
STATUS:CONFIRMED
SEQUENCE:3
BEGIN:VALARM
TRIGGER:-PT10M
DESCRIPTION:Class Reminder
ACTION:DISPLAY
END:VALARM
END:VEVENT
END:VCALENDAR