BEGIN:VCALENDAR
VERSION:2.0
CALSCALE:GREGORIAN
BEGIN:VEVENT
URL:https://www.learndesk.us/class/5646332523970560/lesson/9eb254e80060b5ad9020d92b4b292bab?ref=outlook-calendar
SUMMARY:Create UI Project
DTSTART;TZID=America/Los_Angeles:20260422T190000
DTEND;TZID=America/Los_Angeles:20260422T200000
LOCATION:https://www.learndesk.us/class/5646332523970560/lesson/9eb254e80060b5ad9020d92b4b292bab?ref=outlook-calendar
DESCRIPTION: https://www.learndesk.us/class/5646332523970560/lesson/9eb254e80060b5ad9020d92b4b292bab?ref=outlook-calendar
STATUS:CONFIRMED
SEQUENCE:3
BEGIN:VALARM
TRIGGER:-PT10M
DESCRIPTION:Class Reminder
ACTION:DISPLAY
END:VALARM
END:VEVENT
END:VCALENDAR