BEGIN:VCALENDAR
VERSION:2.0
CALSCALE:GREGORIAN
BEGIN:VEVENT
URL:https://www.learndesk.us/class/5646332523970560/lesson/92d7ded8749858f7f2e97ce882591048?ref=outlook-calendar
SUMMARY:How to Integrate One Time Password (OTP) with Firebase in React
DTSTART;TZID=America/Los_Angeles:20260422T190000
DTEND;TZID=America/Los_Angeles:20260422T200000
LOCATION:https://www.learndesk.us/class/5646332523970560/lesson/92d7ded8749858f7f2e97ce882591048?ref=outlook-calendar
DESCRIPTION: https://www.learndesk.us/class/5646332523970560/lesson/92d7ded8749858f7f2e97ce882591048?ref=outlook-calendar
STATUS:CONFIRMED
SEQUENCE:3
BEGIN:VALARM
TRIGGER:-PT10M
DESCRIPTION:Class Reminder
ACTION:DISPLAY
END:VALARM
END:VEVENT
END:VCALENDAR