BEGIN:VCALENDAR
VERSION:2.0
CALSCALE:GREGORIAN
BEGIN:VEVENT
URL:https://www.learndesk.us/class/5646332523970560/lesson/588e0b67ffc86757d35316f1307205ed?ref=outlook-calendar
SUMMARY:CORS Issue
DTSTART;TZID=America/Los_Angeles:20260422T190000
DTEND;TZID=America/Los_Angeles:20260422T200000
LOCATION:https://www.learndesk.us/class/5646332523970560/lesson/588e0b67ffc86757d35316f1307205ed?ref=outlook-calendar
DESCRIPTION: https://www.learndesk.us/class/5646332523970560/lesson/588e0b67ffc86757d35316f1307205ed?ref=outlook-calendar
STATUS:CONFIRMED
SEQUENCE:3
BEGIN:VALARM
TRIGGER:-PT10M
DESCRIPTION:Class Reminder
ACTION:DISPLAY
END:VALARM
END:VEVENT
END:VCALENDAR