BEGIN:VCALENDAR
VERSION:2.0
CALSCALE:GREGORIAN
BEGIN:VEVENT
URL:https://www.learndesk.us/class/5646332523970560/lesson/46426c10925c1271512dc0d29b0eec6d?ref=outlook-calendar
SUMMARY:Delete API Doc
DTSTART;TZID=America/Los_Angeles:20260421T190000
DTEND;TZID=America/Los_Angeles:20260421T200000
LOCATION:https://www.learndesk.us/class/5646332523970560/lesson/46426c10925c1271512dc0d29b0eec6d?ref=outlook-calendar
DESCRIPTION: https://www.learndesk.us/class/5646332523970560/lesson/46426c10925c1271512dc0d29b0eec6d?ref=outlook-calendar
STATUS:CONFIRMED
SEQUENCE:3
BEGIN:VALARM
TRIGGER:-PT10M
DESCRIPTION:Class Reminder
ACTION:DISPLAY
END:VALARM
END:VEVENT
END:VCALENDAR