BEGIN:VCALENDAR
VERSION:2.0
CALSCALE:GREGORIAN
BEGIN:VEVENT
URL:https://www.learndesk.us/class/5646332523970560/lesson/3d20bd048e39c83b86b9a9e0c55569b7?ref=outlook-calendar
SUMMARY:CSS and Bootstrap
DTSTART;TZID=America/Los_Angeles:20260422T190000
DTEND;TZID=America/Los_Angeles:20260422T200000
LOCATION:https://www.learndesk.us/class/5646332523970560/lesson/3d20bd048e39c83b86b9a9e0c55569b7?ref=outlook-calendar
DESCRIPTION: https://www.learndesk.us/class/5646332523970560/lesson/3d20bd048e39c83b86b9a9e0c55569b7?ref=outlook-calendar
STATUS:CONFIRMED
SEQUENCE:3
BEGIN:VALARM
TRIGGER:-PT10M
DESCRIPTION:Class Reminder
ACTION:DISPLAY
END:VALARM
END:VEVENT
END:VCALENDAR