BEGIN:VCALENDAR
VERSION:2.0
CALSCALE:GREGORIAN
BEGIN:VEVENT
URL:https://www.learndesk.us/class/5646332523970560/lesson/2ab4d4ca69a2ac68b0b13e051d43897a?ref=outlook-calendar
SUMMARY:How to Use Google reCAPTCHA in React
DTSTART;TZID=America/Los_Angeles:20260422T190000
DTEND;TZID=America/Los_Angeles:20260422T200000
LOCATION:https://www.learndesk.us/class/5646332523970560/lesson/2ab4d4ca69a2ac68b0b13e051d43897a?ref=outlook-calendar
DESCRIPTION: In this video, I am going to explain to you how to use Google reCAPTCHA in React JS.

https://www.learndesk.us/class/5646332523970560/lesson/2ab4d4ca69a2ac68b0b13e051d43897a?ref=outlook-calendar
STATUS:CONFIRMED
SEQUENCE:3
BEGIN:VALARM
TRIGGER:-PT10M
DESCRIPTION:Class Reminder
ACTION:DISPLAY
END:VALARM
END:VEVENT
END:VCALENDAR