BEGIN:VCALENDAR
VERSION:2.0
CALSCALE:GREGORIAN
BEGIN:VEVENT
URL:https://www.learndesk.us/class/5646332523970560/lesson/08bdfb51b9dd82efed7fda713313dadf?ref=outlook-calendar
SUMMARY:One Time Password (OTP) with Firebase in React
DTSTART;TZID=America/Los_Angeles:20260421T190000
DTEND;TZID=America/Los_Angeles:20260421T200000
LOCATION:https://www.learndesk.us/class/5646332523970560/lesson/08bdfb51b9dd82efed7fda713313dadf?ref=outlook-calendar
DESCRIPTION: 
How to send OTP using React and Firebase (One Time Password) ReactJS. In this video, we have created an OTP application using React JS and Firebase. 
 
Source Code:
https://github.com/ckjdelhi/react-otp

 


https://www.learndesk.us/class/5646332523970560/lesson/08bdfb51b9dd82efed7fda713313dadf?ref=outlook-calendar
STATUS:CONFIRMED
SEQUENCE:3
BEGIN:VALARM
TRIGGER:-PT10M
DESCRIPTION:Class Reminder
ACTION:DISPLAY
END:VALARM
END:VEVENT
END:VCALENDAR