BEGIN:VCALENDAR
VERSION:2.0
CALSCALE:GREGORIAN
BEGIN:VEVENT
URL:https://www.learndesk.us/class/5646332523970560/full-stack-web-development-with-react-and-mongodb?ref=outlook-calendar
SUMMARY:Full-Stack Web Development with React and MongoDB
DTSTART;TZID=America/Los_Angeles:20260422T190000
DTEND;TZID=America/Los_Angeles:20260422T200000
LOCATION:https://www.learndesk.us/class/5646332523970560/full-stack-web-development-with-react-and-mongodb?ref=outlook-calendar
DESCRIPTION: 
Hi Everyone,
First of all, thank you so much for reaching here. This course is designed to give you hands-on experience of real development.
What will you learn in this course?

I will cover front-end frameworks: React
On the server-side, you will learn to implement NoSQL databases using MongoDB and MongoDB compass with aggregation and other important functions
Then you will learn how to use MongoDB in NodeJS using ExpressJS for API development
We will also learn how to write API documentation using Swagger Tool and OpenAPI which will help you to excel in your career
And then we will integrate API to React application where we will implement the CRUD application
Later in the course, you will learn how to use Google reCAPTCA and OTP SMS using Firebase

Thanks.


https://www.learndesk.us/class/5646332523970560/full-stack-web-development-with-react-and-mongodb?ref=outlook-calendar
STATUS:CONFIRMED
SEQUENCE:3
BEGIN:VALARM
TRIGGER:-PT10M
DESCRIPTION:Class Reminder
ACTION:DISPLAY
END:VALARM
END:VEVENT
END:VCALENDAR