BEGIN:VCALENDAR
VERSION:2.0
CALSCALE:GREGORIAN
BEGIN:VEVENT
URL:https://www.learndesk.us/class/5634061668188160/lesson/eb1a20a944de331a081d1b7a15a0566d?ref=outlook-calendar
SUMMARY:Logging In and Creating JSON Web Tokens (JWTs)
DTSTART;TZID=America/Los_Angeles:20260420T190000
DTEND;TZID=America/Los_Angeles:20260420T200000
LOCATION:https://www.learndesk.us/class/5634061668188160/lesson/eb1a20a944de331a081d1b7a15a0566d?ref=outlook-calendar
DESCRIPTION: https://www.learndesk.us/class/5634061668188160/lesson/eb1a20a944de331a081d1b7a15a0566d?ref=outlook-calendar
STATUS:CONFIRMED
SEQUENCE:3
BEGIN:VALARM
TRIGGER:-PT10M
DESCRIPTION:Class Reminder
ACTION:DISPLAY
END:VALARM
END:VEVENT
END:VCALENDAR