BEGIN:VCALENDAR
VERSION:2.0
CALSCALE:GREGORIAN
BEGIN:VEVENT
URL:https://www.learndesk.us/class/5634061668188160/lesson/dcb670c1509f8a8fe7e873b59630a0ba?ref=outlook-calendar
SUMMARY:Adding Async Validation
DTSTART;TZID=America/Los_Angeles:20260420T190000
DTEND;TZID=America/Los_Angeles:20260420T200000
LOCATION:https://www.learndesk.us/class/5634061668188160/lesson/dcb670c1509f8a8fe7e873b59630a0ba?ref=outlook-calendar
DESCRIPTION: https://www.learndesk.us/class/5634061668188160/lesson/dcb670c1509f8a8fe7e873b59630a0ba?ref=outlook-calendar
STATUS:CONFIRMED
SEQUENCE:3
BEGIN:VALARM
TRIGGER:-PT10M
DESCRIPTION:Class Reminder
ACTION:DISPLAY
END:VALARM
END:VEVENT
END:VCALENDAR