BEGIN:VCALENDAR
VERSION:2.0
CALSCALE:GREGORIAN
BEGIN:VEVENT
URL:https://www.learndesk.us/class/5634061668188160/lesson/d030db09a02e358f212482f267dc292e?ref=outlook-calendar
SUMMARY:Understanding Async Requests
DTSTART;TZID=America/Los_Angeles:20260420T190000
DTEND;TZID=America/Los_Angeles:20260420T200000
LOCATION:https://www.learndesk.us/class/5634061668188160/lesson/d030db09a02e358f212482f267dc292e?ref=outlook-calendar
DESCRIPTION: 
In this section, we look into Async requests, add a client side JS code, send and handle background requests.


https://www.learndesk.us/class/5634061668188160/lesson/d030db09a02e358f212482f267dc292e?ref=outlook-calendar
STATUS:CONFIRMED
SEQUENCE:3
BEGIN:VALARM
TRIGGER:-PT10M
DESCRIPTION:Class Reminder
ACTION:DISPLAY
END:VALARM
END:VEVENT
END:VCALENDAR