BEGIN:VCALENDAR
VERSION:2.0
CALSCALE:GREGORIAN
BEGIN:VEVENT
URL:https://www.learndesk.us/class/5634061668188160/lesson/b6273b909498ef06e620482eb4ab82d3?ref=outlook-calendar
SUMMARY:Working with GraphQL
DTSTART;TZID=America/Los_Angeles:20260422T190000
DTEND;TZID=America/Los_Angeles:20260422T200000
LOCATION:https://www.learndesk.us/class/5634061668188160/lesson/b6273b909498ef06e620482eb4ab82d3?ref=outlook-calendar
DESCRIPTION: In this section, we work with GraphQL, understand the setup and write our first query, define a mutation schema, add a mutation resolver, and add input validation.

https://www.learndesk.us/class/5634061668188160/lesson/b6273b909498ef06e620482eb4ab82d3?ref=outlook-calendar
STATUS:CONFIRMED
SEQUENCE:3
BEGIN:VALARM
TRIGGER:-PT10M
DESCRIPTION:Class Reminder
ACTION:DISPLAY
END:VALARM
END:VEVENT
END:VCALENDAR