BEGIN:VCALENDAR
VERSION:2.0
CALSCALE:GREGORIAN
BEGIN:VEVENT
URL:https://www.learndesk.us/class/5634061668188160/lesson/a8498eb669782c424f5c362d1ac0eae1?ref=outlook-calendar
SUMMARY:File Upload and Download
DTSTART;TZID=America/Los_Angeles:20260420T190000
DTEND;TZID=America/Los_Angeles:20260420T200000
LOCATION:https://www.learndesk.us/class/5634061668188160/lesson/a8498eb669782c424f5c362d1ac0eae1?ref=outlook-calendar
DESCRIPTION: 
In this section, we add a file picker, handle multipart, configure Multer, store file data, set up File type headers and download files and authentication.


https://www.learndesk.us/class/5634061668188160/lesson/a8498eb669782c424f5c362d1ac0eae1?ref=outlook-calendar
STATUS:CONFIRMED
SEQUENCE:3
BEGIN:VALARM
TRIGGER:-PT10M
DESCRIPTION:Class Reminder
ACTION:DISPLAY
END:VALARM
END:VEVENT
END:VCALENDAR