BEGIN:VCALENDAR
VERSION:2.0
CALSCALE:GREGORIAN
BEGIN:VEVENT
URL:https://www.learndesk.us/class/5634061668188160/lesson/a4f192aad71a459b2cce150fc56f59b1?ref=outlook-calendar
SUMMARY:Understanding Validation
DTSTART;TZID=America/Los_Angeles:20260420T190000
DTEND;TZID=America/Los_Angeles:20260420T200000
LOCATION:https://www.learndesk.us/class/5634061668188160/lesson/a4f192aad71a459b2cce150fc56f59b1?ref=outlook-calendar
DESCRIPTION: 
In this section, we learn to validate input, make use of basic inbuilt validators, and check field equality.


https://www.learndesk.us/class/5634061668188160/lesson/a4f192aad71a459b2cce150fc56f59b1?ref=outlook-calendar
STATUS:CONFIRMED
SEQUENCE:3
BEGIN:VALARM
TRIGGER:-PT10M
DESCRIPTION:Class Reminder
ACTION:DISPLAY
END:VALARM
END:VEVENT
END:VCALENDAR