BEGIN:VCALENDAR
VERSION:2.0
CALSCALE:GREGORIAN
BEGIN:VEVENT
URL:https://www.learndesk.us/class/5634061668188160/lesson/a2e41d3e8804db28600c824b16e8e86e?ref=outlook-calendar
SUMMARY:Dynamic Routes and Advanced Models
DTSTART;TZID=America/Los_Angeles:20260420T190000
DTEND;TZID=America/Los_Angeles:20260420T200000
LOCATION:https://www.learndesk.us/class/5634061668188160/lesson/a2e41d3e8804db28600c824b16e8e86e?ref=outlook-calendar
DESCRIPTION: 
In this section, we look into the preparations to add the product IF, extract dynamic parameters, and also render the product data.


https://www.learndesk.us/class/5634061668188160/lesson/a2e41d3e8804db28600c824b16e8e86e?ref=outlook-calendar
STATUS:CONFIRMED
SEQUENCE:3
BEGIN:VALARM
TRIGGER:-PT10M
DESCRIPTION:Class Reminder
ACTION:DISPLAY
END:VALARM
END:VEVENT
END:VCALENDAR