BEGIN:VCALENDAR
VERSION:2.0
CALSCALE:GREGORIAN
BEGIN:VEVENT
URL:https://www.learndesk.us/class/5634061668188160/lesson/9cffa6da61660be53c8f7481f1904901?ref=outlook-calendar
SUMMARY:Sessions and Cookies
DTSTART;TZID=America/Los_Angeles:20260420T190000
DTEND;TZID=America/Los_Angeles:20260420T200000
LOCATION:https://www.learndesk.us/class/5634061668188160/lesson/9cffa6da61660be53c8f7481f1904901?ref=outlook-calendar
DESCRIPTION: 
In this sections, we look into cookies and sessions generated by our web pages and application.


https://www.learndesk.us/class/5634061668188160/lesson/9cffa6da61660be53c8f7481f1904901?ref=outlook-calendar
STATUS:CONFIRMED
SEQUENCE:3
BEGIN:VALARM
TRIGGER:-PT10M
DESCRIPTION:Class Reminder
ACTION:DISPLAY
END:VALARM
END:VEVENT
END:VCALENDAR