BEGIN:VCALENDAR
VERSION:2.0
CALSCALE:GREGORIAN
BEGIN:VEVENT
URL:https://www.learndesk.us/class/5634061668188160/lesson/9b15e4fa2adfd0f213ecbd19d3e2cca5?ref=outlook-calendar
SUMMARY:Working with Dynamic Content and Adding Templating Engines
DTSTART;TZID=America/Los_Angeles:20260420T190000
DTEND;TZID=America/Los_Angeles:20260420T200000
LOCATION:https://www.learndesk.us/class/5634061668188160/lesson/9b15e4fa2adfd0f213ecbd19d3e2cca5?ref=outlook-calendar
DESCRIPTION: 
In this section, we work more on what the user sees or the UI. We learn how to manage data without a database and rendering dynamic content in our views.

Module Introduction
Sharing Data across Requests and Users
Templating Engines - An Overview
Installing and Implementing Pug
Outputting Dynamic Content
Converting HTML Files to Pug
Adding a Layout
Finishing the Pug Template
Working with Handlebars
Converting our Project to Handlebars
Adding the Layout to Handlebars
Working with EJS
Working on the Layout with Partials
Wrap Up



https://www.learndesk.us/class/5634061668188160/lesson/9b15e4fa2adfd0f213ecbd19d3e2cca5?ref=outlook-calendar
STATUS:CONFIRMED
SEQUENCE:3
BEGIN:VALARM
TRIGGER:-PT10M
DESCRIPTION:Class Reminder
ACTION:DISPLAY
END:VALARM
END:VEVENT
END:VCALENDAR